BEGIN:VCALENDAR
VERSION:2.0
PRODID:-//CiviCRM//NONSGML CiviEvent iCal//EN
X-WR-TIMEZONE:Europe/London
METHOD:PUBLISH
BEGIN:VTIMEZONE
TZID:Europe/London
BEGIN:DAYLIGHT
TZOFFSETFROM:+0100
TZOFFSETTO:+0100
TZNAME:BST
DTSTART:20260917T100000
END:DAYLIGHT
END:VTIMEZONE
BEGIN:VEVENT
UID:CiviCRM_EventID_1736_5a401366d74000929432a2d3a89f782f@civicrm.ocva.org.uk
SUMMARY:Fire Marshalling Course
X-ALT-DESC;FMTTYPE=text/html:<!DOCTYPE HTML PUBLIC
  "-//W3C//DTD HTML 3.2//EN"><html><body><p><span s
 tyle="font-size:18px\;"><u><strong><span style="fo
 nt-family:verdana\, geneva\, sans-serif\;">Trainin
 g details</span></strong></u></span></p>\n \n <p><
 span style="font-size:14px\;">This course will cov
 er:</span></p>\n \n <ul>\n 	<li><span style="font-
 size:14px\;">The role of the fire marshal and resp
 onsibilities.</span></li>\n 	<li><span style="font
 -size:14px\;">Relevant legislation and guidelines.
 </span></li>\n 	<li><span style="font-size:14px\;"
 >Preventing fires and the spread of them within bu
 ildings.</span></li>\n 	<li><span style="font-size
 :14px\;">Fighting fires with both fixed installati
 ons and portable extinguishers.</span></li>\n 	<li
 ><span style="font-size:14px\;">Fire hazards and c
 auses of fires.</span></li>\n 	<li><span style="fo
 nt-size:14px\;">Emergency protocol\, including eva
 cuation\, emergency lighting and assembly points.<
 /span></li>\n 	<li><span style="font-size:14px\;">
 Fire alarms\, fire drills and safety training.</sp
 an></li>\n 	<li><span style="font-size:14px\;">Fir
 e risk assessment.</span></li>\n 	<li><span style=
 "font-size:14px\;">Understanding categories of fir
 e and how they differ.</span></li>\n 	<li><span st
 yle="font-size:14px\;">Meaning of the colour codes
  on fire extinguishers.</span></li>\n 	<li><span s
 tyle="font-size:14px\;">Regular fire safety inspec
 tions and keeping a fire log.</span></li>\n 	<li><
 span style="font-size:14px\;">Using Fire Extinguis
 her equipment (this will be done in a safe environ
 ment outside the training room)</span></li>\n </ul
 >\n \n <p><span style="font-size:18px\;"><u><stron
 g>Who should attend?</strong></u></span></p>\n \n 
 <p><span style="font-size:14px\;">This course is d
 esigned for any members of staff who are looking t
 o become the designated fire warden for their work
 place.</span></p>\n \n <p><span style="font-size:1
 8px\;"><u><strong>What will I learn?</strong></u><
 /span><br />\n <span style="font-size:14px\;">Succ
 essful candidates will gain an understanding of fi
 re safety management at work and the specific role
 s and responsibilities related to fire safety in t
 he workplace.</span></p>\n \n <p><u><strong><span 
 style="font-size:18px\;">Trainer:</span></strong><
 /u></p>\n \n <p><span style="font-family:Arial\, H
 elvetica\, sans-serif\;"><span style="font-size:14
 px\;">Our independent trainer has over 15 years of
  knowledge and expertise within the fire sector. <
 /span></span><span style="font-family:Arial\, Helv
 etica\, sans-serif\;"><span style="font-size:14px\
 ;">He aims to equip attendees with an in-depth und
 erstanding of the hazards\, risks and necessary pr
 eventative measures. </span></span><span style="fo
 nt-family:Arial\, Helvetica\, sans-serif\;"><span 
 style="font-size:14px\;">His engaging training met
 hod supports individualised learning within a posi
 tive inclusive environment.</span></span></p>\n \n
  <p><span style="font-size:18px\;"><u><strong><spa
 n style="font-family:verdana\, geneva\, sans-serif
 \;">Cost:</span></strong></u></span></p>\n \n <p><
 span style="font-family:Arial\, Helvetica\, sans-s
 erif\;"><span style="font-size:14px\;">£75 per per
 son for OCVA Members<br />\n £90 per person from a
  charitable organisation who are not OCVA members<
 br />\n £105 per person from a non-charitable orga
 nisation</span></span><br />\n <br />\n <span styl
 e="font-size:18px\;"><u><strong>Time:</strong></u>
 </span><br />\n <span style="font-size:14px\;">10 
 am – 1 pm </span></p>\n \n <p><span style="font-si
 ze:18px\;"><u><strong>Course venue:</strong></u></
 span><br />\n <span style="font-size:14px\;">The S
 ource (next door to OCVA office)\,<br />\n Floyd’s
  Row\,<br />\n Oxford OX1 1SS</span></p>\n \n <p><
 span style="font-size:14px\;">Details of getting i
 nto Oxford by bus\, cycle\, car or train can be fo
 und <a href="https://www.oxford.gov.uk/info/20012/
 parking_and_travel">here</a>. Please note there is
  <strong><em><u>no parking at the venue.</u></em><
 /strong></span></p>\n \n <p><span style="font-size
 :14px\;">Click on<em> </em><u><em><strong>'Book No
 w'</strong></em></u><em> </em>at the bottom of thi
 s page to book your place. If the event is fully b
 ooked\, please register to add your name to the wa
 iting list. </span></p>\n \n <p><span style="font-
 size:14px\;"><i>Please note\, </i>if you are <u>bo
 oking on behalf of another/others</u>\, you must h
 ave their names and email addresses ready. If they
  do not have an email address\, please contact us 
 by emailing <a href="mailto:training@ocva.org.uk">
 training@ocva.org.uk</a>. </span></p>\n \n <p> </p
 ></body></html>
DESCRIPTION:Training details\n \n \n \n This course will cover
 :\n \n \n \n \n 	The role of the fire marshal and 
 responsibilities.\n 	Relevant legislation and guid
 elines.\n 	Preventing fires and the spread of them
  within buildings.\n 	Fighting fires with both fix
 ed installations and portable extinguishers.\n 	Fi
 re hazards and causes of fires.\n 	Emergency proto
 col\, including evacuation\, emergency lighting an
 d assembly points.\n 	Fire alarms\, fire drills an
 d safety training.\n 	Fire risk assessment.\n 	Und
 erstanding categories of fire and how they differ.
 \n 	Meaning of the colour codes on fire extinguish
 ers.\n 	Regular fire safety inspections and keepin
 g a fire log.\n 	Using Fire Extinguisher equipment
  (this will be done in a safe environment outside 
 the training room)\n \n \n Who should attend?\n \n
  \n \n This course is designed for any members of 
 staff who are looking to become the designated fir
 e warden for their workplace.\n \n \n \n What will
  I learn?\n \n Successful candidates will gain an 
 understanding of fire safety management at work an
 d the specific roles and responsibilities related 
 to fire safety in the workplace.\n \n \n \n Traine
 r:\n \n \n \n Our independent trainer has over 15 
 years of knowledge and expertise within the fire s
 ector. He aims to equip attendees with an in-depth
  understanding of the hazards\, risks and necessar
 y preventative measures. His engaging training met
 hod supports individualised learning within a posi
 tive inclusive environment.\n \n \n \n Cost:\n \n 
 \n \n £75 per person for OCVA Members\n \n £90 per
  person from a charitable organisation who are not
  OCVA members\n \n £105 per person from a non-char
 itable organisation\n \n \n \n Time:\n \n 10 am – 
 1 pm \n \n \n \n Course venue:\n \n The Source (ne
 xt door to OCVA office)\,\n \n Floyd’s Row\,\n \n 
 Oxford OX1 1SS\n \n \n \n Details of getting into 
 Oxford by bus\, cycle\, car or train can be found 
 here (https://www.oxford.gov.uk/info/20012/parking
 _and_travel). Please note there is no parking at t
 he venue.\n \n \n \n Click on 'Book Now' at the bo
 ttom of this page to book your place. If the event
  is fully booked\, please register to add your nam
 e to the waiting list. \n \n \n \n Please note\, i
 f you are booking on behalf of another/others\, yo
 u must have their names and email addresses ready.
  If they do not have an email address\, please con
 tact us by emailing training@ocva.org.uk (mailto:t
 raining@ocva.org.uk). \n \n \n \n  \n \n 
CATEGORIES:Training
CALSCALE:GREGORIAN
DTSTAMP;TZID=Europe/London:20260917T100000
DTSTART;TZID=Europe/London:20260917T100000
DTEND;TZID=Europe/London:20260917T130000
LOCATION:The Source (next door to OCVA office)\n Floyds Row
 \, St Aldates\n Oxford\, OX11SS\, OXF \n United Ki
 ngdom\n 
URL:https://civicrm.ocva.org.uk/civicrm/event/info?reset=1&id=1736
END:VEVENT
END:VCALENDAR
