BEGIN:VCALENDAR
VERSION:2.0
PRODID:-//CiviCRM//NONSGML CiviEvent iCal//EN
X-WR-TIMEZONE:Europe/London
METHOD:PUBLISH
BEGIN:VTIMEZONE
TZID:Europe/London
BEGIN:DAYLIGHT
TZOFFSETFROM:+0100
TZOFFSETTO:+0100
TZNAME:BST
DTSTART:20260521T093000
END:DAYLIGHT
END:VTIMEZONE
BEGIN:VEVENT
UID:CiviCRM_EventID_1740_5a401366d74000929432a2d3a89f782f@civicrm.ocva.org.uk
SUMMARY:Governance  (BME Organisations in Oxfordshire)
X-ALT-DESC;FMTTYPE=text/html:<!DOCTYPE HTML PUBLIC
  "-//W3C//DTD HTML 3.2//EN"><html><body><p><span s
 tyle="font-size:18px\;"><u><strong><span style="fo
 nt-family:verdana\, geneva\, sans-serif\;">Trainin
 g details</span></strong></u></span></p>\n \n <p><
 span style="font-size:14px\;">This practical works
 hop introduces the key principles of good governan
 ce for community and voluntary organisations. It w
 ill explore the difference between governance and 
 management\, clarify trustee and leadership respon
 sibilities\, and highlight essential policies\, fi
 nancial oversight\, and risk awareness. The sessio
 n is designed to support organisations to strength
 en their structures\, meet funder expectations\, a
 nd plan for sustainability.</span></p>\n \n <p><sp
 an style="font-size:18px\;"><u><strong>Who should 
 attend?</strong></u></span></p>\n \n <p><span styl
 e="font-size:14px\;">Leaders / Representatives of 
 BME Organisations</span><span style="font-size:14p
 x\;"> in Oxfordshire. </span></p>\n \n <p><span st
 yle="font-size:18px\;"><u><strong>What will I lear
 n?</strong></u></span></p>\n \n <p><span style="fo
 nt-size:14px\;">The aims of this workshop are to s
 trengthen participants’ understanding of governanc
 e and equip them with the knowledge and tools need
 ed to build effective\, accountable\, and sustaina
 ble organisations.</span></p>\n \n <p><span style=
 "font-size:14px\;">By the end of this workshop\, p
 articipants will be able to:</span></p>\n \n <ul>\
 n 	<li><span style="font-size:14px\;">Understand t
 he difference between governance and management</s
 pan></li>\n 	<li><span style="font-size:14px\;">Cl
 arify trustee roles and leadership responsibilitie
 s</span></li>\n 	<li><span style="font-size:14px\;
 ">Identify key policies required for effective gov
 ernance</span></li>\n 	<li><span style="font-size:
 14px\;">Recognise and manage financial and governa
 nce risks</span></li>\n 	<li><span style="font-siz
 e:14px\;">Understand what funders expect from well
 -governed organisations</span></li>\n 	<li><span s
 tyle="font-size:14px\;">Develop a simple action pl
 an to strengthen governance within their organisat
 ion</span></li>\n </ul>\n \n <p>​​​​​​​<u><strong>
 <span style="font-size:18px\;">Trainer</span></str
 ong></u></p>\n \n <p><span style="font-size:14px\;
 ">This workshop will be delivered by <a href="http
 s://www.voice4change-england.org/">Voice4Change En
 gland</a>\, a membership organisation and national
  advocate for BME Voluntary\, Community and Social
  Enterprises (VCSE). </span></p>\n \n <p><span sty
 le="font-size:18px\;"><u><strong><span style="font
 -family:verdana\, geneva\, sans-serif\;">Cost:</sp
 an></strong></u></span></p>\n \n <p><span style="f
 ont-size:14px\;">This workshop is free of charge. 
 </span><br />\n <br />\n <span style="font-size:18
 px\;"><u><strong>Time:</strong></u></span><br />\n
  <span style="font-size:14px\;">9.30 am – 1 pm. Th
 ere will be a short break halfway through the sess
 ion. </span></p>\n \n <p><span style="font-size:18
 px\;"><u><strong>Course venue:</strong></u></span>
 <br />\n <span style="font-size:14px\;">The Source
  (next door to OCVA office)\,<br />\n Floyd’s Row\
 ,<br />\n Oxford OX1 1SS</span></p>\n \n <p><span 
 style="font-size:14px\;">Details of getting into O
 xford by bus\, cycle\, car or train can be found <
 a href="https://www.oxford.gov.uk/info/20012/parki
 ng_and_travel">here</a>. Please note there is <str
 ong><em><u>no parking at the venue.</u></em></stro
 ng></span></p>\n \n <p> </p>\n \n <p><span style="
 font-size:14px\;">Click on<em> </em><u><em><strong
 >'Book Now'</strong></em></u><em> </em>at the bott
 om of this page to book your place. If the event i
 s fully booked\, please register to add your name 
 to the waiting list. </span></p>\n \n <p><span sty
 le="font-size:14px\;"><i>Please note\, </i>if you 
 are <u>booking on behalf of another/others</u>\, y
 ou must have their names and email addresses ready
 . If they do not have an email address\, please co
 ntact us by emailing <a href="mailto:training@ocva
 .org.uk">training@ocva.org.uk</a>. </span></p>\n \
 n <p> </p>\n \n <p> </p></body></html>
DESCRIPTION:Training details\n \n \n \n This practical worksho
 p introduces the key principles of good governance
  for community and voluntary organisations. It wil
 l explore the difference between governance and ma
 nagement\, clarify trustee and leadership responsi
 bilities\, and highlight essential policies\, fina
 ncial oversight\, and risk awareness. The session 
 is designed to support organisations to strengthen
  their structures\, meet funder expectations\, and
  plan for sustainability.\n \n \n \n Who should at
 tend?\n \n \n \n Leaders / Representatives of BME 
 Organisations in Oxfordshire. \n \n \n \n What wil
 l I learn?\n \n \n \n The aims of this workshop ar
 e to strengthen participants’ understanding of gov
 ernance and equip them with the knowledge and tool
 s needed to build effective\, accountable\, and su
 stainable organisations.\n \n \n \n By the end of 
 this workshop\, participants will be able to:\n \n
  \n \n \n 	Understand the difference between gover
 nance and management\n 	Clarify trustee roles and 
 leadership responsibilities\n 	Identify key polici
 es required for effective governance\n 	Recognise 
 and manage financial and governance risks\n 	Under
 stand what funders expect from well-governed organ
 isations\n 	Develop a simple action plan to streng
 then governance within their organisation\n \n \n 
 ​​​​​​​Trainer\n \n \n \n This workshop will be de
 livered by Voice4Change England (https://www.voice
 4change-england.org/)\, a membership organisation 
 and national advocate for BME Voluntary\, Communit
 y and Social Enterprises (VCSE). \n \n \n \n Cost:
 \n \n \n \n This workshop is free of charge. \n \n
  \n \n Time:\n \n 9.30 am – 1 pm. There will be a 
 short break halfway through the session. \n \n \n 
 \n Course venue:\n \n The Source (next door to OCV
 A office)\,\n \n Floyd’s Row\,\n \n Oxford OX1 1SS
 \n \n \n \n Details of getting into Oxford by bus\
 , cycle\, car or train can be found here (https://
 www.oxford.gov.uk/info/20012/parking_and_travel). 
 Please note there is no parking at the venue.\n \n
  \n \n  \n \n \n \n Click on 'Book Now' at the bot
 tom of this page to book your place. If the event 
 is fully booked\, please register to add your name
  to the waiting list. \n \n \n \n Please note\, if
  you are booking on behalf of another/others\, you
  must have their names and email addresses ready. 
 If they do not have an email address\, please cont
 act us by emailing training@ocva.org.uk (mailto:tr
 aining@ocva.org.uk). \n \n \n \n  \n \n \n \n  \n 
 \n 
CATEGORIES:Training
CALSCALE:GREGORIAN
DTSTAMP;TZID=Europe/London:20260521T093000
DTSTART;TZID=Europe/London:20260521T093000
DTEND;TZID=Europe/London:20260521T130000
LOCATION:The Source (next door to OCVA office)\n Floyds Row
 \, St Aldates\n Oxford\, OX11SS\, OXF \n United Ki
 ngdom\n 
URL:https://civicrm.ocva.org.uk/civicrm/event/info?reset=1&id=1740
END:VEVENT
END:VCALENDAR
